BEGIN:VCALENDAR
VERSION:2.0
PRODID:-//hacksw/handcal//NONSGML v1.0//EN
BEGIN:VEVENT
UID:a1168fc172a0eb1e0c8f2c774ca6705d
DTSTAMP:20260423T213526Z

DTSTART:20241018T190000
DTEND:20241018T190000
SUMMARY:SABBAT + CADAVERIC INCUBATOR + ANXIOUS DEATH 
DESCRIPTION:SABBAT (Thrash Black Japón)\nCADAVERIC INCUBATOR (Death Grind Finlandia) \n\nMEDELLIN: Jueves 17 octubre 2024 (Matacandelas)\nCALI: Viernes 18 Octubre 2024 (Cali Music hall)\nBOGOTÁ: Sábado 19 Octubre 2024 (Ace Of Spades).

X-ALT-DESC;FMTTYPE=text/html:<!DOCTYPE HTML PUBLIC "-//W3C//DTD HTML 3.2//EN">\n<HTML>\n<HEAD>\n<META NAME="Generator" CONTENT="MS Exchange Server version 08.00.0681.000">\n<TITLE></TITLE>\n</HEAD>\n<BODY>\n<!-- Converted from text/rtf format -->\n\nSABBAT (Thrash Black Japón)<br />CADAVERIC INCUBATOR (Death Grind Finlandia) <br /><br />MEDELLIN: Jueves 17 octubre 2024 (Matacandelas)<br />CALI: Viernes 18 Octubre 2024 (Cali Music hall)<br />BOGOTÁ: Sábado 19 Octubre 2024 (Ace Of Spades).\n\n</BODY>\n</HTML>

LOCATION:
END:VEVENT

END:VCALENDAR
