BEGIN:VCALENDAR
VERSION:2.0
PRODID:-//hacksw/handcal//NONSGML v1.0//EN
BEGIN:VEVENT
UID:18f6da125bf0650f8b1205334b41e101
DTSTAMP:20260423T200016Z

DTSTART:20241111T190000
DTEND:20241111T190000
SUMMARY:BARÓN ROJO
DESCRIPTION:El Barón está de vuelta !!\nCALI - 10 NOMBIENRE 2024 | PRAGA CLUB MENGA \nBOGOTÁ - 11 NOVIEMBRE 2024 | CALLE 13 BAR

X-ALT-DESC;FMTTYPE=text/html:<!DOCTYPE HTML PUBLIC "-//W3C//DTD HTML 3.2//EN">\n<HTML>\n<HEAD>\n<META NAME="Generator" CONTENT="MS Exchange Server version 08.00.0681.000">\n<TITLE></TITLE>\n</HEAD>\n<BODY>\n<!-- Converted from text/rtf format -->\n\nEl Barón está de vuelta !!<br />CALI - 10 NOMBIENRE 2024 | PRAGA CLUB MENGA <br />BOGOTÁ - 11 NOVIEMBRE 2024 | CALLE 13 BAR\n\n</BODY>\n</HTML>

LOCATION:
END:VEVENT

END:VCALENDAR
