BEGIN:VCALENDAR
VERSION:2.0
PRODID:-//hacksw/handcal//NONSGML v1.0//EN
BEGIN:VEVENT
UID:597f3f2f2819b6a463275803ebc790c8
DTSTAMP:20260423T200018Z

DTSTART:20241027T200000
DTEND:20241027T234500
SUMMARY:INFECTD RAIN
DESCRIPTION:LATIN AMERICA TOUR 2024\nBOGOTÁ - COLOMBIA\n27 OCTUBRE\nACE OF SPADES\nAV BOYACÁ 51-25\n$ 140.000

X-ALT-DESC;FMTTYPE=text/html:<!DOCTYPE HTML PUBLIC "-//W3C//DTD HTML 3.2//EN">\n<HTML>\n<HEAD>\n<META NAME="Generator" CONTENT="MS Exchange Server version 08.00.0681.000">\n<TITLE></TITLE>\n</HEAD>\n<BODY>\n<!-- Converted from text/rtf format -->\n\nLATIN AMERICA TOUR 2024<br />BOGOTÁ - COLOMBIA<br />27 OCTUBRE<br />ACE OF SPADES<br />AV BOYACÁ 51-25<br />$ 140.000\n\n</BODY>\n</HTML>

LOCATION:
END:VEVENT

END:VCALENDAR
