BEGIN:VCALENDAR
VERSION:2.0
PRODID:-//hacksw/handcal//NONSGML v1.0//EN
BEGIN:VEVENT
UID:2a0ba5fb935774f0175dcccfa6d7e61a
DTSTAMP:20260423T200440Z

DTSTART:20241030T190000
DTEND:20241030T190000
SUMMARY:MOTHER MOTHER
DESCRIPTION:MOTHER MOTHER\nmiércoles, 30 de octubre de 2024 19:00 HRS\nCentro De Eventos Royal Center\nBogotá, Cundinamarca\nCra 13 # 66-80\n

X-ALT-DESC;FMTTYPE=text/html:<!DOCTYPE HTML PUBLIC "-//W3C//DTD HTML 3.2//EN">\n<HTML>\n<HEAD>\n<META NAME="Generator" CONTENT="MS Exchange Server version 08.00.0681.000">\n<TITLE></TITLE>\n</HEAD>\n<BODY>\n<!-- Converted from text/rtf format -->\n\nMOTHER MOTHER<br />miércoles, 30 de octubre de 2024 19:00 HRS<br />Centro De Eventos Royal Center<br />Bogotá, Cundinamarca<br />Cra 13 # 66-80<br />\n\n</BODY>\n</HTML>

LOCATION:11-38, Calle 67, UPZs de Bogotá, Localidad Chapinero, Bogotá, Bogotá, Distrito Capital, RAP (Especial) Central, 110231, Colombia
END:VEVENT

END:VCALENDAR
