BEGIN:VCALENDAR
VERSION:2.0
PRODID:-//hacksw/handcal//NONSGML v1.0//EN
BEGIN:VEVENT
UID:cd42c15b6635c1eee27e7dec00867201
DTSTAMP:20260423T200016Z

DTSTART:20240920T013000
DTEND:20240920T013000
SUMMARY:THERION
DESCRIPTION:LEVIATAN TOUR 2024\n\nCALI\n20 SEPTIEMBRE\nTEATRO JORGE ISAAC\n\n\nBOGOTÁ\n19 SEPTIEMBRE \nROYAL HOUSE\n\n\nMEDLLIN\n22 SEPTIEMBRE\nTEATRO PABLO TOBÓN URIBE\n

X-ALT-DESC;FMTTYPE=text/html:<!DOCTYPE HTML PUBLIC "-//W3C//DTD HTML 3.2//EN">\n<HTML>\n<HEAD>\n<META NAME="Generator" CONTENT="MS Exchange Server version 08.00.0681.000">\n<TITLE></TITLE>\n</HEAD>\n<BODY>\n<!-- Converted from text/rtf format -->\n\nLEVIATAN TOUR 2024<br /><br />CALI<br />20 SEPTIEMBRE<br />TEATRO JORGE ISAAC<br /><br /><br />BOGOTÁ<br />19 SEPTIEMBRE <br />ROYAL HOUSE<br /><br /><br />MEDLLIN<br />22 SEPTIEMBRE<br />TEATRO PABLO TOBÓN URIBE<br />\n\n</BODY>\n</HTML>

LOCATION:
END:VEVENT

END:VCALENDAR
