BEGIN:VCALENDAR
VERSION:2.0
PRODID:-//hacksw/handcal//NONSGML v1.0//EN
BEGIN:VEVENT
UID:93ca71d815365d1777a27f0763615618
DTSTAMP:20260423T200414Z

DTSTART:20241021T200000
DTEND:20241021T200000
SUMMARY:CRISTIAN DEATH
DESCRIPTION:THE MISSIÓN\nD-TOUR 24\n\nACE OF SPADE

X-ALT-DESC;FMTTYPE=text/html:<!DOCTYPE HTML PUBLIC "-//W3C//DTD HTML 3.2//EN">\n<HTML>\n<HEAD>\n<META NAME="Generator" CONTENT="MS Exchange Server version 08.00.0681.000">\n<TITLE></TITLE>\n</HEAD>\n<BODY>\n<!-- Converted from text/rtf format -->\n\nTHE MISSIÓN<br />D-TOUR 24<br /><br />ACE OF SPADE\n\n</BODY>\n</HTML>

LOCATION:Carrera 73A, Normandía Occidental, UPZs Localidad Engativá, Localidad Engativá, Bogotá, Bogotá, Distrito Capital, RAP (Especial) Central, 111071, Colombia
END:VEVENT

END:VCALENDAR
