BEGIN:VCALENDAR
VERSION:2.0
PRODID:-//hacksw/handcal//NONSGML v1.0//EN
BEGIN:VEVENT
UID:fde56b2f02ec55815fa6c6e2276d733f
DTSTAMP:20260423T200008Z

DTSTART:20240929T190000
DTEND:20240929T190000
SUMMARY:RAVEN
DESCRIPTION:50th ANNIVERSARY\n\nSOUTH AMERICAN INFERNO TOUR 2024\n\nBOGOTÁ\nACE OF SPADES

X-ALT-DESC;FMTTYPE=text/html:<!DOCTYPE HTML PUBLIC "-//W3C//DTD HTML 3.2//EN">\n<HTML>\n<HEAD>\n<META NAME="Generator" CONTENT="MS Exchange Server version 08.00.0681.000">\n<TITLE></TITLE>\n</HEAD>\n<BODY>\n<!-- Converted from text/rtf format -->\n\n50th ANNIVERSARY<br /><br />SOUTH AMERICAN INFERNO TOUR 2024<br /><br />BOGOTÁ<br />ACE OF SPADES\n\n</BODY>\n</HTML>

LOCATION:
END:VEVENT

END:VCALENDAR
