BEGIN:VCALENDAR
VERSION:2.0
PRODID:-//hacksw/handcal//NONSGML v1.0//EN
BEGIN:VEVENT
UID:69f4ff981cd5187f5ad5b16b2cb59329
DTSTAMP:20260423T200415Z

DTSTART:20241118T190000
DTEND:20241118T190000
SUMMARY:TOTO 2024
DESCRIPTION:TOTO | DOGZ OF OZ TOUR 2024, la emblemática banda de rock estadounidense TOTO se presentará en la ciudad de Bogotá, deleitando a sus fanáticos con sus clásicos eternos. Este evento musical es parte de su gira mundial y promete ser una noche inolvidable para todos los asistentes.\n\nMovistar Arena de Bogotá el 18 de noviembre de 2024\n

X-ALT-DESC;FMTTYPE=text/html:<!DOCTYPE HTML PUBLIC "-//W3C//DTD HTML 3.2//EN">\n<HTML>\n<HEAD>\n<META NAME="Generator" CONTENT="MS Exchange Server version 08.00.0681.000">\n<TITLE></TITLE>\n</HEAD>\n<BODY>\n<!-- Converted from text/rtf format -->\n\nTOTO | DOGZ OF OZ TOUR 2024, la emblemática banda de rock estadounidense TOTO se presentará en la ciudad de Bogotá, deleitando a sus fanáticos con sus clásicos eternos. Este evento musical es parte de su gira mundial y promete ser una noche inolvidable para todos los asistentes.<br /><br />Movistar Arena de Bogotá el 18 de noviembre de 2024<br />\n\n</BODY>\n</HTML>

LOCATION:
END:VEVENT

END:VCALENDAR
