BEGIN:VCALENDAR
VERSION:2.0
PRODID:-//hacksw/handcal//NONSGML v1.0//EN
BEGIN:VEVENT
UID:7b4337fbeee1ff5d66f39ef051cc147e
DTSTAMP:20260423T200018Z

DTSTART:20241022T210000
DTEND:20241022T210000
SUMMARY:AMON AMARTH
DESCRIPTION:BOGOTÁ | METAL FEST\n\nROYAL CENTER BOGOTÁ\n\nPrepárate para una noche épica de música y mitología con Amon Amarth, la legendaria banda de folk metal sueca. El próximo 22 de octubre, el Royal Center de Bogotá será el escenario de un evento único e inolvidable que no querrás perderte.\n\nAmon Amarth es conocida por sus potentes riffs de guitarra, ritmos demoledores y letras inspiradas en la mitología nórdica y las sagas vikingas. Con una trayectoria impresionante y una legión de seguidores en todo el mundo, esta banda promete ofrecer un espectáculo cargado de energía y pasión.\n\nVen y disfruta de una experiencia musical que te transportará a las épicas batallas y leyendas de los antiguos vikingos. Compra tus entradas hoy mismo y únete a nosotros para una noche de metal inolvidable.

X-ALT-DESC;FMTTYPE=text/html:<!DOCTYPE HTML PUBLIC "-//W3C//DTD HTML 3.2//EN">\n<HTML>\n<HEAD>\n<META NAME="Generator" CONTENT="MS Exchange Server version 08.00.0681.000">\n<TITLE></TITLE>\n</HEAD>\n<BODY>\n<!-- Converted from text/rtf format -->\n\nBOGOTÁ | METAL FEST<br /><br />ROYAL CENTER BOGOTÁ<br /><br />Prepárate para una noche épica de música y mitología con Amon Amarth, la legendaria banda de folk metal sueca. El próximo 22 de octubre, el Royal Center de Bogotá será el escenario de un evento único e inolvidable que no querrás perderte.<br /><br />Amon Amarth es conocida por sus potentes riffs de guitarra, ritmos demoledores y letras inspiradas en la mitología nórdica y las sagas vikingas. Con una trayectoria impresionante y una legión de seguidores en todo el mundo, esta banda promete ofrecer un espectáculo cargado de energía y pasión.<br /><br />Ven y disfruta de una experiencia musical que te transportará a las épicas batallas y leyendas de los antiguos vikingos. Compra tus entradas hoy mismo y únete a nosotros para una noche de metal inolvidable.\n\n</BODY>\n</HTML>

LOCATION:
END:VEVENT

END:VCALENDAR
