BEGIN:VCALENDAR
VERSION:2.0
PRODID:-//hacksw/handcal//NONSGML v1.0//EN
BEGIN:VEVENT
UID:ee16993c7bcb31554880d56937cf7e4e
DTSTAMP:20260423T200010Z

DTSTART:20241010T190000
DTEND:20241010T190000
SUMMARY:DESTRUCTION
DESCRIPTION:LATIN TOUR PART II\n40 YEARS OF DESTRUCTION\nCalle 13 Bar - Bogotá

X-ALT-DESC;FMTTYPE=text/html:<!DOCTYPE HTML PUBLIC "-//W3C//DTD HTML 3.2//EN">\n<HTML>\n<HEAD>\n<META NAME="Generator" CONTENT="MS Exchange Server version 08.00.0681.000">\n<TITLE></TITLE>\n</HEAD>\n<BODY>\n<!-- Converted from text/rtf format -->\n\nLATIN TOUR PART II<br />40 YEARS OF DESTRUCTION<br />Calle 13 Bar - Bogotá\n\n</BODY>\n</HTML>

LOCATION:Rochem Biocare Colombia SAS, 60-49/61, Avenida Calle 13, Salazar Gómez, UPZs de Bogotá, Localidad Puente Aranda, Bogotá, Bogotá Distrito Capital - Municipio, RAP (Especial) Central, 111611, Colombia
END:VEVENT

END:VCALENDAR
